BEGIN:VCALENDAR
VERSION:2.0
PRODID:-//SOS Education Consultancy - ECPv6.15.20//NONSGML v1.0//EN
CALSCALE:GREGORIAN
METHOD:PUBLISH
X-WR-CALNAME:SOS Education Consultancy
X-ORIGINAL-URL:https://soseducation.co
X-WR-CALDESC:Events for SOS Education Consultancy
REFRESH-INTERVAL;VALUE=DURATION:PT1H
X-Robots-Tag:noindex
X-PUBLISHED-TTL:PT1H
BEGIN:VTIMEZONE
TZID:UTC
BEGIN:STANDARD
TZOFFSETFROM:+0000
TZOFFSETTO:+0000
TZNAME:UTC
DTSTART:20160101T000000
END:STANDARD
END:VTIMEZONE
BEGIN:VEVENT
DTSTART;TZID=UTC:20170413T113000
DTEND;TZID=UTC:20170413T130000
DTSTAMP:20260421T151526
CREATED:20211007T151113Z
LAST-MODIFIED:20211007T151113Z
UID:6412-1492083000-1492088400@soseducation.co
SUMMARY:Ireland Day @ St Francis College
DESCRIPTION:Event for students and teachers from St Francis College in São Paulo to meet with representatives from Irish colleges and universities
URL:https://soseducation.co/events/ireland-day-st-francis-college/
CATEGORIES:Private Schools,Student recruitment,Student Seminar
ATTACH;FMTTYPE=image/png:https://soseducation.co/wp-content/uploads/2021/10/school-net-2.png
END:VEVENT
END:VCALENDAR